BEGIN:VCALENDAR
VERSION:2.0
PRODID:-//Chris Farr - ECPv6.15.20//NONSGML v1.0//EN
CALSCALE:GREGORIAN
METHOD:PUBLISH
X-ORIGINAL-URL:https://chrisfarrmusic.com
X-WR-CALDESC:Events for Chris Farr
REFRESH-INTERVAL;VALUE=DURATION:PT1H
X-Robots-Tag:noindex
X-PUBLISHED-TTL:PT1H
BEGIN:VTIMEZONE
TZID:America/New_York
BEGIN:DAYLIGHT
TZOFFSETFROM:-0500
TZOFFSETTO:-0400
TZNAME:EDT
DTSTART:20170312T070000
END:DAYLIGHT
BEGIN:STANDARD
TZOFFSETFROM:-0400
TZOFFSETTO:-0500
TZNAME:EST
DTSTART:20171105T060000
END:STANDARD
BEGIN:DAYLIGHT
TZOFFSETFROM:-0500
TZOFFSETTO:-0400
TZNAME:EDT
DTSTART:20180311T070000
END:DAYLIGHT
BEGIN:STANDARD
TZOFFSETFROM:-0400
TZOFFSETTO:-0500
TZNAME:EST
DTSTART:20181104T060000
END:STANDARD
BEGIN:DAYLIGHT
TZOFFSETFROM:-0500
TZOFFSETTO:-0400
TZNAME:EDT
DTSTART:20190310T070000
END:DAYLIGHT
BEGIN:STANDARD
TZOFFSETFROM:-0400
TZOFFSETTO:-0500
TZNAME:EST
DTSTART:20191103T060000
END:STANDARD
END:VTIMEZONE
BEGIN:VEVENT
DTSTART;TZID=America/New_York:20181201T200000
DTEND;TZID=America/New_York:20181201T220000
DTSTAMP:20260423T081006
CREATED:20180927T220833Z
LAST-MODIFIED:20180927T221219Z
UID:10000045-1543694400-1543701600@chrisfarrmusic.com
SUMMARY:Philly Pops Big Band Christmas Show
DESCRIPTION:Read more about The Philly Pops Big Band – https://phillypops.org/about/BIGband
URL:https://chrisfarrmusic.com/event/philly-pops-big-band-christmas-show/
LOCATION:Parx Casino\, 2999 Street Rd\, Bensalem\, PA\, 19020\, United States
ATTACH;FMTTYPE=image/jpeg:https://chrisfarrmusic.com/wp-content/uploads/2018/09/pillypops2.jpg
END:VEVENT
END:VCALENDAR