BEGIN:VCALENDAR
VERSION:2.0
PRODID:-//Chris Farr - ECPv6.15.20//NONSGML v1.0//EN
CALSCALE:GREGORIAN
METHOD:PUBLISH
X-WR-CALNAME:Chris Farr
X-ORIGINAL-URL:https://chrisfarrmusic.com
X-WR-CALDESC:Events for Chris Farr
REFRESH-INTERVAL;VALUE=DURATION:PT1H
X-Robots-Tag:noindex
X-PUBLISHED-TTL:PT1H
BEGIN:VTIMEZONE
TZID:America/New_York
BEGIN:DAYLIGHT
TZOFFSETFROM:-0500
TZOFFSETTO:-0400
TZNAME:EDT
DTSTART:20170312T070000
END:DAYLIGHT
BEGIN:STANDARD
TZOFFSETFROM:-0400
TZOFFSETTO:-0500
TZNAME:EST
DTSTART:20171105T060000
END:STANDARD
BEGIN:DAYLIGHT
TZOFFSETFROM:-0500
TZOFFSETTO:-0400
TZNAME:EDT
DTSTART:20180311T070000
END:DAYLIGHT
BEGIN:STANDARD
TZOFFSETFROM:-0400
TZOFFSETTO:-0500
TZNAME:EST
DTSTART:20181104T060000
END:STANDARD
BEGIN:DAYLIGHT
TZOFFSETFROM:-0500
TZOFFSETTO:-0400
TZNAME:EDT
DTSTART:20190310T070000
END:DAYLIGHT
BEGIN:STANDARD
TZOFFSETFROM:-0400
TZOFFSETTO:-0500
TZNAME:EST
DTSTART:20191103T060000
END:STANDARD
BEGIN:DAYLIGHT
TZOFFSETFROM:-0500
TZOFFSETTO:-0400
TZNAME:EDT
DTSTART:20200308T070000
END:DAYLIGHT
BEGIN:STANDARD
TZOFFSETFROM:-0400
TZOFFSETTO:-0500
TZNAME:EST
DTSTART:20201101T060000
END:STANDARD
END:VTIMEZONE
BEGIN:VEVENT
DTSTART;TZID=America/New_York:20190303T150000
DTEND;TZID=America/New_York:20190303T170000
DTSTAMP:20260423T033917
CREATED:20190218T070938Z
LAST-MODIFIED:20190218T070938Z
UID:10000039-1551625200-1551632400@chrisfarrmusic.com
SUMMARY:Uptown Nights
DESCRIPTION:
URL:https://chrisfarrmusic.com/event/uptown-nights-4/
LOCATION:Kimmel Center\, 300 South Broad Street\, Philadelphia\, PA\, 19102\, United States
END:VEVENT
BEGIN:VEVENT
DTSTART;TZID=America/New_York:20190302T150000
DTEND;TZID=America/New_York:20190302T170000
DTSTAMP:20260423T033917
CREATED:20190218T070518Z
LAST-MODIFIED:20190218T070610Z
UID:10000075-1551538800-1551546000@chrisfarrmusic.com
SUMMARY:Uptown Nights
DESCRIPTION:
URL:https://chrisfarrmusic.com/event/uptown-nights-2/
LOCATION:Kimmel Center\, 300 South Broad Street\, Philadelphia\, PA\, 19102\, United States
END:VEVENT
BEGIN:VEVENT
DTSTART;TZID=America/New_York:20190301T200000
DTEND;TZID=America/New_York:20190301T220000
DTSTAMP:20260423T033917
CREATED:20190218T070240Z
LAST-MODIFIED:20190218T070240Z
UID:10000074-1551470400-1551477600@chrisfarrmusic.com
SUMMARY:Uptown Nights
DESCRIPTION:
URL:https://chrisfarrmusic.com/event/uptown-nights/
LOCATION:Kimmel Center\, 300 South Broad Street\, Philadelphia\, PA\, 19102\, United States
END:VEVENT
BEGIN:VEVENT
DTSTART;TZID=America/New_York:20190203T150000
DTEND;TZID=America/New_York:20190203T170000
DTSTAMP:20260423T033917
CREATED:20190126T133651Z
LAST-MODIFIED:20190126T133651Z
UID:10000071-1549206000-1549213200@chrisfarrmusic.com
SUMMARY:Philly Pops
DESCRIPTION:
URL:https://chrisfarrmusic.com/event/philly-pops/2019-02-03/
LOCATION:Kimmel Center\, 300 South Broad Street\, Philadelphia\, PA\, 19102\, United States
END:VEVENT
BEGIN:VEVENT
DTSTART;TZID=America/New_York:20190203T080000
DTEND;TZID=America/New_York:20190203T170000
DTSTAMP:20260423T033917
CREATED:20190218T070718Z
LAST-MODIFIED:20190218T070718Z
UID:10000076-1549180800-1549213200@chrisfarrmusic.com
SUMMARY:Uptown Nights
DESCRIPTION:
URL:https://chrisfarrmusic.com/event/uptown-nights-3/
LOCATION:Kimmel Center\, 300 South Broad Street\, Philadelphia\, PA\, 19102\, United States
END:VEVENT
BEGIN:VEVENT
DTSTART;TZID=America/New_York:20190202T150000
DTEND;TZID=America/New_York:20190202T170000
DTSTAMP:20260423T033917
CREATED:20190126T133651Z
LAST-MODIFIED:20190126T133651Z
UID:10000070-1549119600-1549126800@chrisfarrmusic.com
SUMMARY:Philly Pops
DESCRIPTION:
URL:https://chrisfarrmusic.com/event/philly-pops/2019-02-02/
LOCATION:Kimmel Center\, 300 South Broad Street\, Philadelphia\, PA\, 19102\, United States
END:VEVENT
BEGIN:VEVENT
DTSTART;TZID=America/New_York:20190201T150000
DTEND;TZID=America/New_York:20190201T170000
DTSTAMP:20260423T033917
CREATED:20190126T133651Z
LAST-MODIFIED:20190126T133651Z
UID:10000069-1549033200-1549040400@chrisfarrmusic.com
SUMMARY:Philly Pops
DESCRIPTION:
URL:https://chrisfarrmusic.com/event/philly-pops/2019-02-01/
LOCATION:Kimmel Center\, 300 South Broad Street\, Philadelphia\, PA\, 19102\, United States
END:VEVENT
BEGIN:VEVENT
DTSTART;VALUE=DATE:20190120
DTEND;VALUE=DATE:20190122
DTSTAMP:20260423T033917
CREATED:20190105T103236Z
LAST-MODIFIED:20190105T103236Z
UID:10000042-1547949600-1548035999@chrisfarrmusic.com
SUMMARY:Philly Pops Big Band
DESCRIPTION:
URL:https://chrisfarrmusic.com/event/philly-pops-big-band/2019-01-20/
LOCATION:Kimmel Center\, 300 South Broad Street\, Philadelphia\, PA\, 19102\, United States
END:VEVENT
BEGIN:VEVENT
DTSTART;VALUE=DATE:20190119
DTEND;VALUE=DATE:20190121
DTSTAMP:20260423T033917
CREATED:20190105T103236Z
LAST-MODIFIED:20190105T103236Z
UID:10000041-1547863200-1547949599@chrisfarrmusic.com
SUMMARY:Philly Pops Big Band
DESCRIPTION:
URL:https://chrisfarrmusic.com/event/philly-pops-big-band/2019-01-19/
LOCATION:Kimmel Center\, 300 South Broad Street\, Philadelphia\, PA\, 19102\, United States
END:VEVENT
BEGIN:VEVENT
DTSTART;VALUE=DATE:20190118
DTEND;VALUE=DATE:20190120
DTSTAMP:20260423T033917
CREATED:20190105T103236Z
LAST-MODIFIED:20190105T103236Z
UID:10000040-1547776800-1547863199@chrisfarrmusic.com
SUMMARY:Philly Pops Big Band
DESCRIPTION:
URL:https://chrisfarrmusic.com/event/philly-pops-big-band/2019-01-18/
LOCATION:Kimmel Center\, 300 South Broad Street\, Philadelphia\, PA\, 19102\, United States
END:VEVENT
BEGIN:VEVENT
DTSTART;TZID=America/New_York:20181015T103000
DTEND;TZID=America/New_York:20181015T111500
DTSTAMP:20260423T033917
CREATED:20181015T100239Z
LAST-MODIFIED:20181015T153426Z
UID:10000044-1539599400-1539602100@chrisfarrmusic.com
SUMMARY:Jazz Orchestra of Philadelphia
DESCRIPTION:Jazz Orchestra of Philadelphia with Terrell Stafford
URL:https://chrisfarrmusic.com/event/jazz-orchestra-of-philadelphia/
LOCATION:Kimmel Center\, 300 South Broad Street\, Philadelphia\, PA\, 19102\, United States
ATTACH;FMTTYPE=image/jpeg:https://chrisfarrmusic.com/wp-content/uploads/2018/10/JOP.jpg
END:VEVENT
END:VCALENDAR