BEGIN:VCALENDAR
VERSION:2.0
PRODID:-//Chris Farr - ECPv6.15.20//NONSGML v1.0//EN
CALSCALE:GREGORIAN
METHOD:PUBLISH
X-WR-CALNAME:Chris Farr
X-ORIGINAL-URL:https://chrisfarrmusic.com
X-WR-CALDESC:Events for Chris Farr
REFRESH-INTERVAL;VALUE=DURATION:PT1H
X-Robots-Tag:noindex
X-PUBLISHED-TTL:PT1H
BEGIN:VTIMEZONE
TZID:America/New_York
BEGIN:DAYLIGHT
TZOFFSETFROM:-0500
TZOFFSETTO:-0400
TZNAME:EDT
DTSTART:20180311T070000
END:DAYLIGHT
BEGIN:STANDARD
TZOFFSETFROM:-0400
TZOFFSETTO:-0500
TZNAME:EST
DTSTART:20181104T060000
END:STANDARD
BEGIN:DAYLIGHT
TZOFFSETFROM:-0500
TZOFFSETTO:-0400
TZNAME:EDT
DTSTART:20190310T070000
END:DAYLIGHT
BEGIN:STANDARD
TZOFFSETFROM:-0400
TZOFFSETTO:-0500
TZNAME:EST
DTSTART:20191103T060000
END:STANDARD
BEGIN:DAYLIGHT
TZOFFSETFROM:-0500
TZOFFSETTO:-0400
TZNAME:EDT
DTSTART:20200308T070000
END:DAYLIGHT
BEGIN:STANDARD
TZOFFSETFROM:-0400
TZOFFSETTO:-0500
TZNAME:EST
DTSTART:20201101T060000
END:STANDARD
END:VTIMEZONE
BEGIN:VEVENT
DTSTART;TZID=America/New_York:20190122T190000
DTEND;TZID=America/New_York:20190122T210000
DTSTAMP:20260423T020721
CREATED:20190105T105547Z
LAST-MODIFIED:20190105T105547Z
UID:10000068-1548183600-1548190800@chrisfarrmusic.com
SUMMARY:Jazz Orchestra of Philadelphia
DESCRIPTION:
URL:https://chrisfarrmusic.com/event/jazz-orchestra-of-philadelphia-2/
LOCATION:Calvin and Janet High Center for Worship and Performing Arts\, Parmer Hall
END:VEVENT
END:VCALENDAR