BEGIN:VCALENDAR
VERSION:2.0
PRODID:-//Chris Farr - ECPv6.15.20//NONSGML v1.0//EN
CALSCALE:GREGORIAN
METHOD:PUBLISH
X-ORIGINAL-URL:https://chrisfarrmusic.com
X-WR-CALDESC:Events for Chris Farr
REFRESH-INTERVAL;VALUE=DURATION:PT1H
X-Robots-Tag:noindex
X-PUBLISHED-TTL:PT1H
BEGIN:VTIMEZONE
TZID:America/New_York
BEGIN:DAYLIGHT
TZOFFSETFROM:-0500
TZOFFSETTO:-0400
TZNAME:EDT
DTSTART:20170312T070000
END:DAYLIGHT
BEGIN:STANDARD
TZOFFSETFROM:-0400
TZOFFSETTO:-0500
TZNAME:EST
DTSTART:20171105T060000
END:STANDARD
BEGIN:DAYLIGHT
TZOFFSETFROM:-0500
TZOFFSETTO:-0400
TZNAME:EDT
DTSTART:20180311T070000
END:DAYLIGHT
BEGIN:STANDARD
TZOFFSETFROM:-0400
TZOFFSETTO:-0500
TZNAME:EST
DTSTART:20181104T060000
END:STANDARD
BEGIN:DAYLIGHT
TZOFFSETFROM:-0500
TZOFFSETTO:-0400
TZNAME:EDT
DTSTART:20190310T070000
END:DAYLIGHT
BEGIN:STANDARD
TZOFFSETFROM:-0400
TZOFFSETTO:-0500
TZNAME:EST
DTSTART:20191103T060000
END:STANDARD
END:VTIMEZONE
BEGIN:VEVENT
DTSTART;TZID=America/New_York:20181102T180000
DTEND;TZID=America/New_York:20181102T210000
DTSTAMP:20260423T110108
CREATED:20180927T150213Z
LAST-MODIFIED:20180927T150729Z
UID:10000046-1541181600-1541192400@chrisfarrmusic.com
SUMMARY:Tony Miceli Group Tribute to Grover Washington
DESCRIPTION:For more information\, https://www.barnesfoundation.org/whats-on/first-friday-grover-washington-jr
URL:https://chrisfarrmusic.com/event/tony-miceli-group-tribute-to-grover-washington/
LOCATION:Barnes\, 2025 Benjamin Franklin Parkway\, Philadelphia\, PA\, 19130\, United States
ATTACH;FMTTYPE=image/jpeg:https://chrisfarrmusic.com/wp-content/uploads/2018/09/barnes.jpg
END:VEVENT
END:VCALENDAR